Workbook
Name Курс_EUR: Содержание!$C$5
Name Скидка_3M_AM: '3M АМ'!$M$4
Name Скидка_3M_EUR: #REF!
Name Скидка_3M_RUB: #REF!
Name Скидка_ABREX: Abrex!$L$4
Name Скидка_JTAPE: Jtape!$K$4
Name Скидка_ROXELPRO: 'RP CR'!$L$4
Name Скидка_ROXELPRO_burrs: 'RP BR'!$Q$4
Name Скидка_ROXELPRO_Ind: 'RP IND'!$M$4
Name Скидка_RP_CST: 'RP CST'!$L$4
Name Скидка_RP_ind: 'RP CR'!$L$5
Name Скидка_RP_СИЗ: 'RP СИЗ'!$L$4
Name Скидка_SATA: Sata!$Q$4
Name Скидка_SM_CST: 'SM CST'!$L$4
Name Скидка_SUNMIGHT: Sunmight!$L$4

Sheet Содержание
A3: Содержание прайс-листа
A4: 46300 | B4: Сумма заявки
B5: Курс | C5: 105
B6: У.Е. | C6: РУБ
A7: Абразивные материалы SUNMIGHT/ SUNTEX (Южная Корея) | B7: =Sunmight!J5 -> 0 | C7: =B7*Курс_EUR -> 0
A8: Абразивные материалы SUNMIGHT/ RoxelPro для строительного рынка | B8: ='SM CST'!J5 -> 0 | C8: =B8*Курс_EUR -> 0
A9: Материалы для кузовного авторемонта RoxelPro | B9: ='RP CR'!J6 -> 0 | C9: =B9*Курс_EUR -> 0
A10: Абразивные материалы для индустрии RoxelPro | B10: ='RP IND'!K5 -> 0 | C10: =B10*Курс_EUR -> 0
A11: Твердосплавные борфрезы по металлу RoxelPro | B11: ='RP BR'!O5 -> 0 | C11: =B11*Курс_EUR -> 0
A12: Материалы для строительного рынка RoxelPro | B12: ='RP CST'!J5 -> 0 | C12: =B12*Курс_EUR -> 0
A13: Средства индивидуальной защиты RoxelPro | B13: ='RP СИЗ'!J5 -> 0 | C13: =B13*Курс_EUR -> 0
A14: Окрасочное оборудование и средства защиты SATA (Германия) | B14: =Sata!O5 -> 0 | C14: =B14*Курс_EUR -> 0
A15: Абразивные материалы 3М (США) | B15: ='3M АМ'!K5 -> 0 | C15: =B15*Курс_EUR -> 0
A16: Маскирующие материалы JTAPE (Англия) | B16: =Jtape!I5 -> 0 | C16: =B16*Курс_EUR -> 0
A17: Шлифовальный ручной инструмент ABREX-SYSTEM (Италия) | B17: =Abrex!J5 -> 0 | C17: =B17*Курс_EUR -> 0
A18: Итого: | B18: =SUM(B7:B17) -> 0 | C18: =SUM(C7:C17) -> 0

Sheet Sunmight
B2: Прайс - лист
B3: на абразивные материалы SUNMIGHT/ SUNTEX (Ю.Корея)
B4: Санкт-Петербург, 194362, пос.Парголово, Горское шоссе 6, логопарк "Осиновая Роща" | K4: Скидка:
B5: т./ф. + 7 (812) 640 4240 e-mail: info@lion-group.ru www.lion-group.ru | E5: Содержание | F5: =Курс_EUR -> 105 | I5: Сумма заказа, У.Е.: | J5: =SUM(J9:J904) -> 0 | K5: РУБ: | L5: =SUM(L9:L904) -> 0
A6: Изм. цены % | B6: Код | C6: Наименование товара | D6: Зерно | E6: Кол-во в упаковке | F6: Рекоменд. Цена У.Е. | G6: Рекоменд. Цена РУБ | H6: Заказ | I6: Цена со скидкой | J6: Сумма У.Е. | K6: Цена со скидкой | L6: Сумма РУБ
B7: Абразивный материал на основе синтетической плёнки с керамическим зерном CERAMIC L712T
B8: для удаления старого ЛКП, сухого шлифования шпаклёвки, грунтов, лакокрасочных материалов
A9: 0 | B9: 76308 | C9: Шлифовальный круг CERAMIC L712T 77мм на липучке с мультипылеотводом | D9: 120 | E9: 50 / 400 | F9: 0.33 | G9: =ROUND(F9*Курс_EUR,2) -> 34.65 | I9: =F9*(1-Скидка_SUNMIGHT) -> 0.33 | J9: =I9*H9 -> 0 | K9: =G9*(1-Скидка_SUNMIGHT) -> 34.65 | L9: =H9*K9 -> 0
A10: 0 | B10: 76310 | C10: Шлифовальный круг CERAMIC L712T 77мм на липучке с мультипылеотводом | D10: 180 | E10: 50 / 400 | F10: 0.33 | G10: =ROUND(F10*Курс_EUR,2) -> 34.65 | I10: =F10*(1-Скидка_SUNMIGHT) -> 0.33 | J10: =I10*H10 -> 0 | K10: =G10*(1-Скидка_SUNMIGHT) -> 34.65 | L10: =H10*K10 -> 0
A11: 0 | B11: 76314 | C11: Шлифовальный круг CERAMIC L712T 77мм на липучке с мультипылеотводом | D11: 320 | E11: 50 / 400 | F11: 0.33 | G11: =ROUND(F11*Курс_EUR,2) -> 34.65 | I11: =F11*(1-Скидка_SUNMIGHT) -> 0.33 | J11: =I11*H11 -> 0 | K11: =G11*(1-Скидка_SUNMIGHT) -> 34.65 | L11: =H11*K11 -> 0
A13: 0 | B13: 76403 | C13: Шлифовальный круг CERAMIC L712 125мм на липучке с мультипылеотводом | D13: 40 | E13: 25 / 200 | F13: 0.73 | G13: =ROUND(F13*Курс_EUR,2) -> 76.65 | I13: =F13*(1-Скидка_SUNMIGHT) -> 0.73 | J13: =I13*H13 -> 0 | K13: =G13*(1-Скидка_SUNMIGHT) -> 76.65 | L13: =H13*K13 -> 0
A14: 0 | B14: 76405 | C14: Шлифовальный круг CERAMIC L712 125мм на липучке с мультипылеотводом | D14: 60 | E14: 25 / 200 | F14: 0.61 | G14: =ROUND(F14*Курс_EUR,2) -> 64.05 | I14: =F14*(1-Скидка_SUNMIGHT) -> 0.61 | J14: =I14*H14 -> 0 | K14: =G14*(1-Скидка_SUNMIGHT) -> 64.05 | L14: =H14*K14 -> 0
A15: 0 | B15: 76406 | C15: Шлифовальный круг CERAMIC L712T 125мм на липучке с мультипылеотводом | D15: 80 | E15: 50 / 400 | F15: 0.46 | G15: =ROUND(F15*Курс_EUR,2) -> 48.3 | I15: =F15*(1-Скидка_SUNMIGHT) -> 0.46 | J15: =I15*H15 -> 0 | K15: =G15*(1-Скидка_SUNMIGHT) -> 48.3 | L15: =H15*K15 -> 0
A16: 0 | B16: 76407 | C16: Шлифовальный круг CERAMIC L712T 125мм на липучке с мультипылеотводом | D16: 100 | E16: 50 / 400 | F16: 0.42 | G16: =ROUND(F16*Курс_EUR,2) -> 44.1 | I16: =F16*(1-Скидка_SUNMIGHT) -> 0.42 | J16: =I16*H16 -> 0 | K16: =G16*(1-Скидка_SUNMIGHT) -> 44.1 | L16: =H16*K16 -> 0
A17: 0 | B17: 76408 | C17: Шлифовальный круг CERAMIC L712T 125мм на липучке с мультипылеотводом | D17: 120 | E17: 50 / 400 | F17: 0.42 | G17: =ROUND(F17*Курс_EUR,2) -> 44.1 | I17: =F17*(1-Скидка_SUNMIGHT) -> 0.42 | J17: =I17*H17 -> 0 | K17: =G17*(1-Скидка_SUNMIGHT) -> 44.1 | L17: =H17*K17 -> 0
A18: 0 | B18: 76409 | C18: Шлифовальный круг CERAMIC L712T 125мм на липучке с мультипылеотводом | D18: 150 | E18: 50 / 400 | F18: 0.42 | G18: =ROUND(F18*Курс_EUR,2) -> 44.1 | I18: =F18*(1-Скидка_SUNMIGHT) -> 0.42 | J18: =I18*H18 -> 0 | K18: =G18*(1-Скидка_SUNMIGHT) -> 44.1 | L18: =H18*K18 -> 0
A19: 0 | B19: 76410 | C19: Шлифовальный круг CERAMIC L712T 125мм на липучке с мультипылеотводом | D19: 180 | E19: 50 / 400 | F19: 0.42 | G19: =ROUND(F19*Курс_EUR,2) -> 44.1 | I19: =F19*(1-Скидка_SUNMIGHT) -> 0.42 | J19: =I19*H19 -> 0 | K19: =G19*(1-Скидка_SUNMIGHT) -> 44.1 | L19: =H19*K19 -> 0
A20: 0 | B20: 76411 | C20: Шлифовальный круг CERAMIC L712T 125мм на липучке с мультипылеотводом | D20: 220 | E20: 50 / 400 | F20: 0.42 | G20: =ROUND(F20*Курс_EUR,2) -> 44.1 | I20: =F20*(1-Скидка_SUNMIGHT) -> 0.42 | J20: =I20*H20 -> 0 | K20: =G20*(1-Скидка_SUNMIGHT) -> 44.1 | L20: =H20*K20 -> 0
A21: 0 | B21: 76412 | C21: Шлифовальный круг CERAMIC L712T 125мм на липучке с мультипылеотводом | D21: 240 | E21: 50 / 400 | F21: 0.42 | G21: =ROUND(F21*Курс_EUR,2) -> 44.1 | I21: =F21*(1-Скидка_SUNMIGHT) -> 0.42 | J21: =I21*H21 -> 0 | K21: =G21*(1-Скидка_SUNMIGHT) -> 44.1 | L21: =H21*K21 -> 0
... A65: 0 | B65: 77214 | C65: Шлиф.материал CERAMIC L712T в перфорир.рулонах 115мм х 12м на липучке с мультипылеотводом | D65: 320 | E65: 1 / 4 | F65: 51.72 | G65: =ROUND(F65*Курс_EUR,2) -> 5430.6 | I65: =F65*(1-Скидка_SUNMIGHT) -> 51.72 | J65: =I65*H65 -> 0 | K65: =G65*(1-Скидка_SUNMIGHT) -> 5430.6 | L65: =H65*K65 -> 0
B67: Сетчатый абразивный материал с керамическим зерном SUN NET CERAMIC X713T
B68: для беспыльного шлифования композитов, наполнителей, лакокрасочых материалов, пластика, цветных металлов и твёрдых пород древесины
A69: 0 | B69: 35006 | C69: Шлифовальный круг SUN NET CERAMIC X713T 125мм на липучке, сетка | D69: 80 | E69: 50 / 400 | F69: 0.75 | G69: =ROUND(F69*Курс_EUR,2) -> 78.75 | I69: =F69*(1-Скидка_SUNMIGHT) -> 0.75 | J69: =I69*H69 -> 0 | K69: =G69*(1-Скидка_SUNMIGHT) -> 78.75 | L69: =H69*K69 -> 0
A70: 0 | B70: 35007 | C70: Шлифовальный круг SUN NET CERAMIC X713T 125мм на липучке, сетка | D70: 100 | E70: 50 / 400 | F70: 0.65 | G70: =ROUND(F70*Курс_EUR,2) -> 68.25 | I70: =F70*(1-Скидка_SUNMIGHT) -> 0.65 | J70: =I70*H70 -> 0 | K70: =G70*(1-Скидка_SUNMIGHT) -> 68.25 | L70: =H70*K70 -> 0
A71: 0 | B71: 35008 | C71: Шлифовальный круг SUN NET CERAMIC X713T 125мм на липучке, сетка | D71: 120 | E71: 50 / 400 | F71: 0.65 | G71: =ROUND(F71*Курс_EUR,2) -> 68.25 | I71: =F71*(1-Скидка_SUNMIGHT) -> 0.65 | J71: =I71*H71 -> 0 | K71: =G71*(1-Скидка_SUNMIGHT) -> 68.25 | L71: =H71*K71 -> 0
A72: 0 | B72: 35009 | C72: Шлифовальный круг SUN NET CERAMIC X713T 125мм на липучке, сетка | D72: 150 | E72: 50 / 400 | F72: 0.65 | G72: =ROUND(F72*Курс_EUR,2) -> 68.25 | I72: =F72*(1-Скидка_SUNMIGHT) -> 0.65 | J72: =I72*H72 -> 0 | K72: =G72*(1-Скидка_SUNMIGHT) -> 68.25 | L72: =H72*K72 -> 0
A73: 0 | B73: 35010 | C73: Шлифовальный круг SUN NET CERAMIC X713T 125мм на липучке, сетка | D73: 180 | E73: 50 / 400 | F73: 0.65 | G73: =ROUND(F73*Курс_EUR,2) -> 68.25 | I73: =F73*(1-Скидка_SUNMIGHT) -> 0.65 | J73: =I73*H73 -> 0 | K73: =G73*(1-Скидка_SUNMIGHT) -> 68.25 | L73: =H73*K73 -> 0
A74: 0 | B74: 35011 | C74: Шлифовальный круг SUN NET CERAMIC X713T 125мм на липучке, сетка | D74: 220 | E74: 50 / 400 | F74: 0.65 | G74: =ROUND(F74*Курс_EUR,2) -> 68.25 | I74: =F74*(1-Скидка_SUNMIGHT) -> 0.65 | J74: =I74*H74 -> 0 | K74: =G74*(1-Скидка_SUNMIGHT) -> 68.25 | L74: =H74*K74 -> 0
A75: 0 | B75: 35012 | C75: Шлифовальный круг SUN NET CERAMIC X713T 125мм на липучке, сетка | D75: 240 | E75: 50 / 400 | F75: 0.65 | G75: =ROUND(F75*Курс_EUR,2) -> 68.25 | I75: =F75*(1-Скидка_SUNMIGHT) -> 0.65 | J75: =I75*H75 -> 0 | K75: =G75*(1-Скидка_SUNMIGHT) -> 68.25 | L75: =H75*K75 -> 0
A76: 0 | B76: 35014 | C76: Шлифовальный круг SUN NET CERAMIC X713T 125мм на липучке, сетка | D76: 320 | E76: 50 / 400 | F76: 0.65 | G76: =ROUND(F76*Курс_EUR,2) -> 68.25 | I76: =F76*(1-Скидка_SUNMIGHT) -> 0.65 | J76: =I76*H76 -> 0 | K76: =G76*(1-Скидка_SUNMIGHT) -> 68.25 | L76: =H76*K76 -> 0
A77: 0 | B77: 35016 | C77: Шлифовальный круг SUN NET CERAMIC X713T 125мм на липучке, сетка | D77: 400 | E77: 50 / 400 | F77: 0.65 | G77: =ROUND(F77*Курс_EUR,2) -> 68.25 | I77: =F77*(1-Скидка_SUNMIGHT) -> 0.65 | J77: =I77*H77 -> 0 | K77: =G77*(1-Скидка_SUNMIGHT) -> 68.25 | L77: =H77*K77 -> 0
A78: 0 | B78: 35017 | C78: Шлифовальный круг SUN NET CERAMIC X713T 125мм на липучке, сетка | D78: 500 | E78: 50 / 400 | F78: 0.65 | G78: =ROUND(F78*Курс_EUR,2) -> 68.25 | I78: =F78*(1-Скидка_SUNMIGHT) -> 0.65 | J78: =I78*H78 -> 0 | K78: =G78*(1-Скидка_SUNMIGHT) -> 68.25 | L78: =H78*K78 -> 0
A79: 0 | B79: 35018 | C79: Шлифовальный круг SUN NET CERAMIC X713T 125мм на липучке, сетка | D79: 600 | E79: 50 / 400 | F79: 0.65 | G79: =ROUND(F79*Курс_EUR,2) -> 68.25 | I79: =F79*(1-Скидка_SUNMIGHT) -> 0.65 | J79: =I79*H79 -> 0 | K79: =G79*(1-Скидка_SUNMIGHT) -> 68.25 | L79: =H79*K79 -> 0
A80: 0 | B80: 35019 | C80: Шлифовальный круг SUN NET CERAMIC X713T 125мм на липучке, сетка | D80: 800 | E80: 50 / 400 | F80: 0.65 | G80: =ROUND(F80*Курс_EUR,2) -> 68.25 | I80: =F80*(1-Скидка_SUNMIGHT) -> 0.65 | J80: =I80*H80 -> 0 | K80: =G80*(1-Скидка_SUNMIGHT) -> 68.25 | L80: =H80*K80 -> 0
... A138: 0 | B138: 35516 | C138: Шлифовальный материал SUN NET CERAMIC X713T в рулонах 115мм х 10м на липучке, сетка | D138: 400 | E138: 1 / 8 | F138: 51.02 | G138: =ROUND(F138*Курс_EUR,2) -> 5357.1 | I138: =F138*(1-Скидка_SUNMIGHT) -> 51.02 | J138: =I138*H138 -> 0 | K138: =G138*(1-Скидка_SUNMIGHT) -> 5357.1 | L138: =H138*K138 -> 0
B140: Сетчатый абразивный материал SUN NET X313T
B141: для беспыльного шлифования композитов, наполнителей, лакокрасочых материалов, пластика, цветных металлов и твёрдых пород древесины
A142: 0 | B142: 82106 | C142: Шлифовальный круг SUN NET X313T 125мм на липучке, сетка | D142: P 80 | E142: 50 / 400 | F142: 0.62 | G142: =ROUND(F142*Курс_EUR,2) -> 65.1 | I142: =F142*(1-Скидка_SUNMIGHT) -> 0.62 | J142: =I142*H142 -> 0 | K142: =G142*(1-Скидка_SUNMIGHT) -> 65.1 | L142: =H142*K142 -> 0
A143: 0 | B143: 82107 | C143: Шлифовальный круг SUN NET X313T 125мм на липучке, сетка | D143: P 100 | E143: 50 / 400 | F143: 0.54 | G143: =ROUND(F143*Курс_EUR,2) -> 56.7 | I143: =F143*(1-Скидка_SUNMIGHT) -> 0.54 | J143: =I143*H143 -> 0 | K143: =G143*(1-Скидка_SUNMIGHT) -> 56.7 | L143: =H143*K143 -> 0
A144: 0 | B144: 82108 | C144: Шлифовальный круг SUN NET X313T 125мм на липучке, сетка | D144: P 120 | E144: 50 / 400 | F144: 0.54 | G144: =ROUND(F144*Курс_EUR,2) -> 56.7 | I144: =F144*(1-Скидка_SUNMIGHT) -> 0.54 | J144: =I144*H144 -> 0 | K144: =G144*(1-Скидка_SUNMIGHT) -> 56.7 | L144: =H144*K144 -> 0
...

Sheet SM CST
B2: Прайс - лист
B3: на шлифовальные круги SUNMIGHT/ RoxelPro для строительного рынка
B4: Санкт-Петербург, 194362, пос.Парголово, Горское шоссе 6, логопарк "Осиновая Роща" | K4: Скидка: | L4: 0
B5: т./ф. + 7 (812) 640 4240 e-mail: info@lion-group.ru www.lion-group.ru | E5: Содержание | F5: =Курс_EUR -> 105 | I5: Сумма заказа, У.Е.: | J5: =SUM(J9:J69) -> 0 | K5: РУБ: | L5: =SUM(L9:L69) -> 0
A6: Изм. цены % | B6: Код | C6: Наименование товара | D6: Зерно | E6: Кол-во в упаковке | F6: Рекоменд. Цена У.Е. | G6: Рекоменд. Цена РУБ | H6: Заказ | I6: Цена со скидкой | J6: Сумма У.Е. | K6: Цена со скидкой | L6: Сумма РУБ
B7: Абразивный материал на основе синтетической плёнки с керамическим зерном SUNMIGHT CERAMIC L712T
B8: для удаления старого ЛКП, сухого шлифования шпаклёвки, грунтов, лакокрасочных материалов
A9: 0 | B9: 77603 | C9: Шлифовальный круг CERAMIC L712 180мм на липучке с мультипылеотводом | D9: 40 | E9: 25 / 200 | F9: 1.58 | G9: =ROUND(F9*Курс_EUR,2) -> 165.9 | I9: =F9*(1-Скидка_SM_CST) -> 1.58 | J9: =I9*H9 -> 0 | K9: =G9*(1-Скидка_SM_CST) -> 165.9 | L9: =H9*K9 -> 0
A10: 0 | B10: 77605 | C10: Шлифовальный круг CERAMIC L712 180мм на липучке с мультипылеотводом | D10: 60 | E10: 25 / 200 | F10: 1.51 | G10: =ROUND(F10*Курс_EUR,2) -> 158.55 | I10: =F10*(1-Скидка_SM_CST) -> 1.51 | J10: =I10*H10 -> 0 | K10: =G10*(1-Скидка_SM_CST) -> 158.55 | L10: =H10*K10 -> 0
A11: 0 | B11: 77606 | C11: Шлифовальный круг CERAMIC L712T 180мм на липучке с мультипылеотводом | D11: 80 | E11: 50 / 400 | F11: 1.29 | G11: =ROUND(F11*Курс_EUR,2) -> 135.45 | I11: =F11*(1-Скидка_SM_CST) -> 1.29 | J11: =I11*H11 -> 0 | K11: =G11*(1-Скидка_SM_CST) -> 135.45 | L11: =H11*K11 -> 0
A12: 0 | B12: 77608 | C12: Шлифовальный круг CERAMIC L712T 180мм на липучке с мультипылеотводом | D12: 120 | E12: 50 / 400 | F12: 1.12 | G12: =ROUND(F12*Курс_EUR,2) -> 117.6 | I12: =F12*(1-Скидка_SM_CST) -> 1.12 | J12: =I12*H12 -> 0 | K12: =G12*(1-Скидка_SM_CST) -> 117.6 | L12: =H12*K12 -> 0
A13: 0 | B13: 77610 | C13: Шлифовальный круг CERAMIC L712T 180мм на липучке с мультипылеотводом | D13: 180 | E13: 50 / 400 | F13: 1.12 | G13: =ROUND(F13*Курс_EUR,2) -> 117.6 | I13: =F13*(1-Скидка_SM_CST) -> 1.12 | J13: =I13*H13 -> 0 | K13: =G13*(1-Скидка_SM_CST) -> 117.6 | L13: =H13*K13 -> 0
A14: 0 | B14: 77612 | C14: Шлифовальный круг CERAMIC L712T 180мм на липучке с мультипылеотводом | D14: 240 | E14: 50 / 400 | F14: 1.12 | G14: =ROUND(F14*Курс_EUR,2) -> 117.6 | I14: =F14*(1-Скидка_SM_CST) -> 1.12 | J14: =I14*H14 -> 0 | K14: =G14*(1-Скидка_SM_CST) -> 117.6 | L14: =H14*K14 -> 0
A15: 0 | B15: 77614 | C15: Шлифовальный круг CERAMIC L712T 180мм на липучке с мультипылеотводом | D15: 320 | E15: 50 / 400 | F15: 1.12 | G15: =ROUND(F15*Курс_EUR,2) -> 117.6 | I15: =F15*(1-Скидка_SM_CST) -> 1.12 | J15: =I15*H15 -> 0 | K15: =G15*(1-Скидка_SM_CST) -> 117.6 | L15: =H15*K15 -> 0
A17: 2.9 | B17: 78001 | C17: Шлифовальный круг CERAMIC L712 225мм на липучке, 24 отв. | D17: 24 | E17: 25 / 200 | F17: 3.6 | G17: =ROUND(F17*Курс_EUR,2) -> 378 | I17: =F17*(1-Скидка_SM_CST) -> 3.6 | J17: =I17*H17 -> 0 | K17: =G17*(1-Скидка_SM_CST) -> 378 | L17: =H17*K17 -> 0
A18: 3 | B18: 78002 | C18: Шлифовальный круг CERAMIC L712 225мм на липучке, 24 отв. | D18: 36 | E18: 25 / 200 | F18: 3.09 | G18: =ROUND(F18*Курс_EUR,2) -> 324.45 | I18: =F18*(1-Скидка_SM_CST) -> 3.09 | J18: =I18*H18 -> 0 | K18: =G18*(1-Скидка_SM_CST) -> 324.45 | L18: =H18*K18 -> 0
A19: 2.9 | B19: 78003 | C19: Шлифовальный круг CERAMIC L712 225мм на липучке, 24 отв. | D19: 40 | E19: 25 / 200 | F19: 2.83 | G19: =ROUND(F19*Курс_EUR,2) -> 297.15 | I19: =F19*(1-Скидка_SM_CST) -> 2.83 | J19: =I19*H19 -> 0 | K19: =G19*(1-Скидка_SM_CST) -> 297.15 | L19: =H19*K19 -> 0
A20: 3.2 | B20: 78005 | C20: Шлифовальный круг CERAMIC L712 225мм на липучке, 24 отв. | D20: 60 | E20: 25 / 200 | F20: 2.58 | G20: =ROUND(F20*Курс_EUR,2) -> 270.9 | I20: =F20*(1-Скидка_SM_CST) -> 2.58 | J20: =I20*H20 -> 0 | K20: =G20*(1-Скидка_SM_CST) -> 270.9 | L20: =H20*K20 -> 0
A21: 3.2 | B21: 78006 | C21: Шлифовальный круг CERAMIC L712T 225мм на липучке, 24 отв. | D21: 80 | E21: 50 / 400 | F21: 2.25 | G21: =ROUND(F21*Курс_EUR,2) -> 236.25 | I21: =F21*(1-Скидка_SM_CST) -> 2.25 | J21: =I21*H21 -> 0 | K21: =G21*(1-Скидка_SM_CST) -> 236.25 | L21: =H21*K21 -> 0
... A29: 4.8 | B29: 78016 | C29: Шлифовальный круг CERAMIC L712T 225мм на липучке, 24 отв. | D29: 400 | E29: 50 / 400 | F29: 1.98 | G29: =ROUND(F29*Курс_EUR,2) -> 207.9 | I29: =F29*(1-Скидка_SM_CST) -> 1.98 | J29: =I29*H29 -> 0 | K29: =G29*(1-Скидка_SM_CST) -> 207.9 | L29: =H29*K29 -> 0
B31: Сетчатый абразивный материал с керамическим зерном SUN NET CERAMIC X713T
B32: для беспыльного шлифования композитов, наполнителей, лакокрасочых материалов, пластика, цветных металлов и твёрдых пород древесины
A33: 2.8 | B33: 35406 | C33: Шлифовальный круг SUN NET CERAMIC X713T 225мм на липучке, сетка | D33: 80 | E33: 20 / 200 | F33: 2.57 | G33: =ROUND(F33*Курс_EUR,2) -> 269.85 | I33: =F33*(1-Скидка_SUNMIGHT) -> 2.57 | J33: =I33*H33 -> 0 | K33: =G33*(1-Скидка_SM_CST) -> 269.85 | L33: =H33*K33 -> 0
A34: 5.1 | B34: 35407 | C34: Шлифовальный круг SUN NET CERAMIC X713T 225мм на липучке, сетка | D34: 100 | E34: 20 / 200 | F34: 2.28 | G34: =ROUND(F34*Курс_EUR,2) -> 239.4 | I34: =F34*(1-Скидка_SUNMIGHT) -> 2.28 | J34: =I34*H34 -> 0 | K34: =G34*(1-Скидка_SM_CST) -> 239.4 | L34: =H34*K34 -> 0
A35: 5.1 | B35: 35408 | C35: Шлифовальный круг SUN NET CERAMIC X713T 225мм на липучке, сетка | D35: 120 | E35: 20 / 200 | F35: 2.28 | G35: =ROUND(F35*Курс_EUR,2) -> 239.4 | I35: =F35*(1-Скидка_SUNMIGHT) -> 2.28 | J35: =I35*H35 -> 0 | K35: =G35*(1-Скидка_SM_CST) -> 239.4 | L35: =H35*K35 -> 0
A36: 5.1 | B36: 35409 | C36: Шлифовальный круг SUN NET CERAMIC X713T 225мм на липучке, сетка | D36: 150 | E36: 20 / 200 | F36: 2.28 | G36: =ROUND(F36*Курс_EUR,2) -> 239.4 | I36: =F36*(1-Скидка_SUNMIGHT) -> 2.28 | J36: =I36*H36 -> 0 | K36: =G36*(1-Скидка_SM_CST) -> 239.4 | L36: =H36*K36 -> 0
A37: 5.1 | B37: 35410 | C37: Шлифовальный круг SUN NET CERAMIC X713T 225мм на липучке, сетка | D37: 180 | E37: 20 / 200 | F37: 2.28 | G37: =ROUND(F37*Курс_EUR,2) -> 239.4 | I37: =F37*(1-Скидка_SUNMIGHT) -> 2.28 | J37: =I37*H37 -> 0 | K37: =G37*(1-Скидка_SM_CST) -> 239.4 | L37: =H37*K37 -> 0
A38: 5.1 | B38: 35411 | C38: Шлифовальный круг SUN NET CERAMIC X713T 225мм на липучке, сетка | D38: 220 | E38: 20 / 200 | F38: 2.28 | G38: =ROUND(F38*Курс_EUR,2) -> 239.4 | I38: =F38*(1-Скидка_SUNMIGHT) -> 2.28 | J38: =I38*H38 -> 0 | K38: =G38*(1-Скидка_SM_CST) -> 239.4 | L38: =H38*K38 -> 0
A39: 5.1 | B39: 35412 | C39: Шлифовальный круг SUN NET CERAMIC X713T 225мм на липучке, сетка | D39: 240 | E39: 20 / 200 | F39: 2.28 | G39: =ROUND(F39*Курс_EUR,2) -> 239.4 | I39: =F39*(1-Скидка_SUNMIGHT) -> 2.28 | J39: =I39*H39 -> 0 | K39: =G39*(1-Скидка_SM_CST) -> 239.4 | L39: =H39*K39 -> 0
A40: 5.1 | B40: 35414 | C40: Шлифовальный круг SUN NET CERAMIC X713T 225мм на липучке, сетка | D40: 320 | E40: 20 / 200 | F40: 2.28 | G40: =ROUND(F40*Курс_EUR,2) -> 239.4 | I40: =F40*(1-Скидка_SUNMIGHT) -> 2.28 | J40: =I40*H40 -> 0 | K40: =G40*(1-Скидка_SM_CST) -> 239.4 | L40: =H40*K40 -> 0
B42: Сетчатый абразивный материал SUNMIGHT SUN NET X313T
B43: для беспыльного шлифования композитов, наполнителей, лакокрасочых материалов, пластика, цветных металлов и твёрдых пород древесины
A44: 0 | B44: 83406 | C44: Шлифовальный круг SUN NET X313T 225мм на липучке, сетка | D44: P 80 | E44: 20 / 200 | F44: 1.72 | G44: =ROUND(F44*Курс_EUR,2) -> 180.6 | I44: =F44*(1-Скидка_SM_CST) -> 1.72 | J44: =I44*H44 -> 0 | K44: =G44*(1-Скидка_SM_CST) -> 180.6 | L44: =H44*K44 -> 0
A45: 0 | B45: 83408 | C45: Шлифовальный круг SUN NET X313T 225мм на липучке, сетка | D45: P 120 | E45: 20 / 200 | F45: 1.49 | G45: =ROUND(F45*Курс_EUR,2) -> 156.45 | I45: =F45*(1-Скидка_SM_CST) -> 1.49 | J45: =I45*H45 -> 0 | K45: =G45*(1-Скидка_SM_CST) -> 156.45 | L45: =H45*K45 -> 0
B47: Абразивный материал на основе синтетической плёнки FILM L312T
B48: для удаления старого ЛКП, сухого шлифования композитов, наполнителей, лакокрасочных материалов и твёрдой древесины
A49: 0 | B49: 53503 | C49: Шлифовальный круг FILM L312 225мм на липучке, 24 отв, зелёный | D49: P 40 | E49: 25 / 200 | F49: 1.97 | G49: =ROUND(F49*Курс_EUR,2) -> 206.85 | I49: =F49*(1-Скидка_SM_CST) -> 1.97 | J49: =I49*H49 -> 0 | K49: =G49*(1-Скидка_SM_CST) -> 206.85 | L49: =H49*K49 -> 0
A50: 0 | B50: 53505 | C50: Шлифовальный круг FILM L312 225мм на липучке, 24 отв, зелёный | D50: P 60 | E50: 50 / 400 | F50: 1.88 | G50: =ROUND(F50*Курс_EUR,2) -> 197.4 | I50: =F50*(1-Скидка_SM_CST) -> 1.88 | J50: =I50*H50 -> 0 | K50: =G50*(1-Скидка_SM_CST) -> 197.4 | L50: =H50*K50 -> 0
A51: 0 | B51: 53506 | C51: Шлифовальный круг FILM L312 225мм на липучке, 24 отв, зелёный | D51: P 80 | E51: 50 / 400 | F51: 1.71 | G51: =ROUND(F51*Курс_EUR,2) -> 179.55 | I51: =F51*(1-Скидка_SM_CST) -> 1.71 | J51: =I51*H51 -> 0 | K51: =G51*(1-Скидка_SM_CST) -> 179.55 | L51: =H51*K51 -> 0
A52: 0 | B52: 53507 | C52: Шлифовальный круг FILM L312 225мм на липучке, 24 отв, зелёный | D52: P 100 | E52: 50 / 400 | F52: 1.52 | G52: =ROUND(F52*Курс_EUR,2) -> 159.6 | I52: =F52*(1-Скидка_SM_CST) -> 1.52 | J52: =I52*H52 -> 0 | K52: =G52*(1-Скидка_SM_CST) -> 159.6 | L52: =H52*K52 -> 0
...

Sheet RP CR
B2: Прайс - лист
B3: на материалы для авторемонта RoxelPro
K4: Скидка: | L4: 0
B5: Санкт-Петербург, 194362, пос.Парголово, Горское шоссе 6, логопарк "Осиновая Роща" | K5: Скидка *: | L5: 0
B6: т./ф. + 7 (812) 640 4240 e-mail: info@lion-group.ru www.lion-group.ru | D6: Содержание | F6: =Курс_EUR -> 105 | I6: Сумма заказа, У.Е.: | J6: =SUM(J10:J697) -> 0 | K6: РУБ: | L6: =SUM(L10:L697) -> 0
A7: Изм. цены % | B7: Артикул | C7: Наименование продукта | D7: Упаковка | E7: Ед.изм. | F7: Рекоменд. Цена У.Е. | G7: Рекоменд. Цена РУБ | H7: Заказ | I7: Цена со скидкой | J7: Сумма | K7: Цена со скидкой | L7: Сумма РУБ
B8: Абразивные материалы
B9: Отрезные круги
A10: 0 | B10: 105144 | C10: RoxelPro Отрезной круг ROXPRO POWER CUT 125 x 1.2 x 22мм, Т41, нерж.сталь, металл | D10: 50 / 500 шт. | E10: шт. | F10: 0.72 | G10: =ROUND(F10*Курс_EUR,2) -> 75.6 | I10: =F10*(1-Скидка_RP_ind) -> 0.72 | J10: =I10*H10 -> 0 | K10: =G10*(1-Скидка_RP_ind) -> 75.6 | L10: =H10*K10 -> 0 | M10: *
A11: 0 | B11: 105243 | C11: RoxelPro Отрезной круг ROXTOP HARD CUT 125 x 1.0 x 22мм, Т41, нерж.сталь, металл | D11: 50 / 500 шт. | E11: шт. | F11: 0.67 | G11: =ROUND(F11*Курс_EUR,2) -> 70.35 | I11: =F11*(1-Скидка_RP_ind) -> 0.67 | J11: =I11*H11 -> 0 | K11: =G11*(1-Скидка_RP_ind) -> 70.35 | L11: =H11*K11 -> 0 | M11: *
A12: 0 | B12: 105323 | C12: RoxelPro Отрезной круг ROXTOP UNI CUT 75 x 1.0 x 9.8мм, Т41, нерж.сталь, металл | D12: 50 / 500 шт. | E12: шт. | F12: 0.56 | G12: =ROUND(F12*Курс_EUR,2) -> 58.8 | I12: =F12*(1-Скидка_RP_ind) -> 0.56 | J12: =I12*H12 -> 0 | K12: =G12*(1-Скидка_RP_ind) -> 58.8 | L12: =H12*K12 -> 0 | M12: *
A13: 0 | B13: 105343 | C13: RoxelPro Отрезной круг ROXTOP UNI CUT 125 x 1.0 x 22мм, Т41, нерж.сталь, металл | D13: 50 / 500 шт. | E13: шт. | F13: 0.67 | G13: =ROUND(F13*Курс_EUR,2) -> 70.35 | I13: =F13*(1-Скидка_RP_ind) -> 0.67 | J13: =I13*H13 -> 0 | K13: =G13*(1-Скидка_RP_ind) -> 70.35 | L13: =H13*K13 -> 0 | M13: *
A14: 0 | B14: 105543 | C14: RoxelPro Отрезной круг ROXTOP FAST CUT 125 x 1.0 x 22мм, Т41, нерж.сталь, металл | D14: 50 / 500 шт. | E14: шт. | F14: 0.63 | G14: =ROUND(F14*Курс_EUR,2) -> 66.15 | I14: =F14*(1-Скидка_RP_ind) -> 0.63 | J14: =I14*H14 -> 0 | K14: =G14*(1-Скидка_RP_ind) -> 66.15 | L14: =H14*K14 -> 0 | M14: *
B16: Фибровые круги
A17: 0 | B17: 110341 | C17: RoxelPro Фибровый шлифовальный круг ROXPRO 125 х 22мм, керамика, Р24 | D17: 25 / 200 шт. | E17: шт. | F17: 2.48 | G17: =ROUND(F17*Курс_EUR,2) -> 260.4 | I17: =F17*(1-Скидка_RP_ind) -> 2.48 | J17: =I17*H17 -> 0 | K17: =G17*(1-Скидка_RP_ind) -> 260.4 | L17: =H17*K17 -> 0 | M17: *
A18: 0 | B18: 110342 | C18: RoxelPro Фибровый шлифовальный круг ROXPRO 125 х 22мм, керамика, Р36 | D18: 25 / 200 шт. | E18: шт. | F18: 2.34 | G18: =ROUND(F18*Курс_EUR,2) -> 245.7 | I18: =F18*(1-Скидка_RP_ind) -> 2.34 | J18: =I18*H18 -> 0 | K18: =G18*(1-Скидка_RP_ind) -> 245.7 | L18: =H18*K18 -> 0 | M18: *
A19: 0 | B19: 110343 | C19: RoxelPro Фибровый шлифовальный круг ROXPRO 125 х 22мм, керамика, Р40 | D19: 25 / 200 шт. | E19: шт. | F19: 1.92 | G19: =ROUND(F19*Курс_EUR,2) -> 201.6 | I19: =F19*(1-Скидка_RP_ind) -> 1.92 | J19: =I19*H19 -> 0 | K19: =G19*(1-Скидка_RP_ind) -> 201.6 | L19: =H19*K19 -> 0 | M19: *
A20: 0 | B20: 110345 | C20: RoxelPro Фибровый шлифовальный круг ROXPRO 125 х 22мм, керамика, Р60 | D20: 25 / 200 шт. | E20: шт. | F20: 1.51 | G20: =ROUND(F20*Курс_EUR,2) -> 158.55 | I20: =F20*(1-Скидка_RP_ind) -> 1.51 | J20: =I20*H20 -> 0 | K20: =G20*(1-Скидка_RP_ind) -> 158.55 | L20: =H20*K20 -> 0 | M20: *
A21: 0 | B21: 110346 | C21: RoxelPro Фибровый шлифовальный круг ROXPRO 125 х 22мм, керамика, Р80 | D21: 25 / 200 шт. | E21: шт. | F21: 1.42 | G21: =ROUND(F21*Курс_EUR,2) -> 149.1 | I21: =F21*(1-Скидка_RP_ind) -> 1.42 | J21: =I21*H21 -> 0 | K21: =G21*(1-Скидка_RP_ind) -> 149.1 | L21: =H21*K21 -> 0 | M21: *
A22: 0 | B22: 110347 | C22: RoxelPro Фибровый шлифовальный круг ROXPRO 125 х 22мм, керамика, Р100 | D22: 25 / 200 шт. | E22: шт. | F22: 1.31 | G22: =ROUND(F22*Курс_EUR,2) -> 137.55 | I22: =F22*(1-Скидка_RP_ind) -> 1.31 | J22: =I22*H22 -> 0 | K22: =G22*(1-Скидка_RP_ind) -> 137.55 | L22: =H22*K22 -> 0 | M22: *
A24: 0 | B24: 110441 | C24: RoxelPro Фибровый шлифовальный круг ROXPRO HARD CUT 125 х 22мм, керамика, Р24 | D24: 25 / 200 шт. | E24: шт. | F24: 1.8 | G24: =ROUND(F24*Курс_EUR,2) -> 189 | I24: =F24*(1-Скидка_RP_ind) -> 1.8 | J24: =I24*H24 -> 0 | K24: =G24*(1-Скидка_RP_ind) -> 189 | L24: =H24*K24 -> 0 | M24: *
A25: 0 | B25: 110442 | C25: RoxelPro Фибровый шлифовальный круг ROXPRO HARD CUT 125 х 22мм, керамика, Р36 | D25: 25 / 200 шт. | E25: шт. | F25: 1.68 | G25: =ROUND(F25*Курс_EUR,2) -> 176.4 | I25: =F25*(1-Скидка_RP_ind) -> 1.68 | J25: =I25*H25 -> 0 | K25: =G25*(1-Скидка_RP_ind) -> 176.4 | L25: =H25*K25 -> 0 | M25: *
A26: 0 | B26: 110443 | C26: RoxelPro Фибровый шлифовальный круг ROXPRO HARD CUT 125 х 22мм, керамика, Р40 | D26: 25 / 200 шт. | E26: шт. | F26: 1.68 | G26: =ROUND(F26*Курс_EUR,2) -> 176.4 | I26: =F26*(1-Скидка_RP_ind) -> 1.68 | J26: =I26*H26 -> 0 | K26: =G26*(1-Скидка_RP_ind) -> 176.4 | L26: =H26*K26 -> 0 | M26: *
A27: 0 | B27: 110445 | C27: RoxelPro Фибровый шлифовальный круг ROXPRO HARD CUT 125 х 22мм, керамика, Р60 | D27: 25 / 200 шт. | E27: шт. | F27: 1.54 | G27: =ROUND(F27*Курс_EUR,2) -> 161.7 | I27: =F27*(1-Скидка_RP_ind) -> 1.54 | J27: =I27*H27 -> 0 | K27: =G27*(1-Скидка_RP_ind) -> 161.7 | L27: =H27*K27 -> 0 | M27: *
A28: 0 | B28: 110446 | C28: RoxelPro Фибровый шлифовальный круг ROXPRO HARD CUT 125 х 22мм, керамика, Р80 | D28: 25 / 200 шт. | E28: шт. | F28: 1.48 | G28: =ROUND(F28*Курс_EUR,2) -> 155.4 | I28: =F28*(1-Скидка_RP_ind) -> 1.48 | J28: =I28*H28 -> 0 | K28: =G28*(1-Скидка_RP_ind) -> 155.4 | L28: =H28*K28 -> 0 | M28: *
A29: 0 | B29: 110448 | C29: RoxelPro Фибровый шлифовальный круг ROXPRO HARD CUT 125 х 22мм, керамика, Р120 | D29: 25 / 200 шт. | E29: шт. | F29: 1.48 | G29: =ROUND(F29*Курс_EUR,2) -> 155.4 | I29: =F29*(1-Скидка_RP_ind) -> 1.48 | J29: =I29*H29 -> 0 | K29: =G29*(1-Скидка_RP_ind) -> 155.4 | L29: =H29*K29 -> 0 | M29: *
... A33: 0 | B33: 110762 | C33: RoxelPro Фибровый шлифовальный круг ROXTOP 180 х 22мм, оксид алюминия, Р36 | D33: 25 / 200 шт. | E33: шт. | F33: 1.8 | G33: =ROUND(F33*Курс_EUR,2) -> 189 | I33: =F33*(1-Скидка_RP_ind) -> 1.8 | J33: =I33*H33 -> 0 | K33: =G33*(1-Скидка_RP_ind) -> 189 | L33: =H33*K33 -> 0 | M33: *
B35: Оправки для фибровых кругов
A36: 9.4 | B36: 110934 | C36: RoxelPro Оправка для фибровых кругов 125мм, особо жёсткая, ребристая M14 | D36: шт. | E36: шт. | F36: 23.59 | G36: =ROUND(F36*Курс_EUR,2) -> 2476.95 | I36: =F36*(1-Скидка_RP_ind) -> 23.59 | J36: =I36*H36 -> 0 | K36: =G36*(1-Скидка_RP_ind) -> 2476.95 | L36: =H36*K36 -> 0 | M36: *
A37: 9.1 | B37: 110944 | C37: RoxelPro Оправка для фибровых кругов 125мм, жёсткая, ребристая M14 | D37: шт. | E37: шт. | F37: 19.13 | G37: =ROUND(F37*Курс_EUR,2) -> 2008.65 | I37: =F37*(1-Скидка_RP_ind) -> 19.13 | J37: =I37*H37 -> 0 | K37: =G37*(1-Скидка_RP_ind) -> 2008.65 | L37: =H37*K37 -> 0 | M37: *
A38: 9.1 | B38: 110954 | C38: RoxelPro Оправка для фибровых кругов 125мм, средней жёсткости, ребристая M14 | D38: шт. | E38: шт. | F38: 15.2 | G38: =ROUND(F38*Курс_EUR,2) -> 1596 | I38: =F38*(1-Скидка_RP_ind) -> 15.2 | J38: =I38*H38 -> 0 | K38: =G38*(1-Скидка_RP_ind) -> 1596 | L38: =H38*K38 -> 0 | M38: *
A39: 8.5 | B39: 110964 | C39: RoxelPro Оправка для фибровых кругов 125мм, мягкая M14 | D39: шт. | E39: шт. | F39: 13.46 | G39: =ROUND(F39*Курс_EUR,2) -> 1413.3 | I39: =F39*(1-Скидка_RP_ind) -> 13.46 | J39: =I39*H39 -> 0 | K39: =G39*(1-Скидка_RP_ind) -> 1413.3 | L39: =H39*K39 -> 0 | M39: *
B41: Лепестковые круги
A42: 0 | B42: 111513 | C42: RoxelPro Быстросъёмный лепестковый круг ROXTOP 50мм, цирконат, Р40 | D42: 10 / 500 | E42: шт. | F42: 3.27 | G42: =ROUND(F42*Курс_EUR,2) -> 343.35 | I42: =F42*(1-Скидка_RP_ind) -> 3.27 | J42: =I42*H42 -> 0 | K42: =G42*(1-Скидка_RP_ind) -> 343.35 | L42: =H42*K42 -> 0 | M42: *
A43: 0 | B43: 111515 | C43: RoxelPro Быстросъёмный лепестковый круг ROXTOP 50мм, цирконат, Р60 | D43: 10 / 500 | E43: шт. | F43: 3.1 | G43: =ROUND(F43*Курс_EUR,2) -> 325.5 | I43: =F43*(1-Скидка_RP_ind) -> 3.1 | J43: =I43*H43 -> 0 | K43: =G43*(1-Скидка_RP_ind) -> 325.5 | L43: =H43*K43 -> 0 | M43: *
A44: 0 | B44: 111516 | C44: RoxelPro Быстросъёмный лепестковый круг ROXTOP 50мм, цирконат, Р80 | D44: 10 / 500 | E44: шт. | F44: 3.1 | G44: =ROUND(F44*Курс_EUR,2) -> 325.5 | I44: =F44*(1-Скидка_RP_ind) -> 3.1 | J44: =I44*H44 -> 0 | K44: =G44*(1-Скидка_RP_ind) -> 325.5 | L44: =H44*K44 -> 0 | M44: *
B46: Зачистные круги QCD
A47: 0 | B47: 113212 | C47: RoxelPro Зачистной круг ROXPRO PLUS QCD 50мм, керамика, Р36 | D47: кор: 100 шт. | E47: шт. | F47: 1.03 | G47: =ROUND(F47*Курс_EUR,2) -> 108.15 | I47: =F47*(1-Скидка_RP_ind) -> 1.03 | J47: =I47*H47 -> 0 | K47: =G47*(1-Скидка_RP_ind) -> 108.15 | L47: =H47*K47 -> 0 | M47: *
A48: 0 | B48: 113215 | C48: RoxelPro Зачистной круг ROXPRO PLUS QCD 50мм, керамика, Р60 | D48: кор: 100 шт. | E48: шт. | F48: 0.99 | G48: =ROUND(F48*Курс_EUR,2) -> 103.95 | I48: =F48*(1-Скидка_RP_ind) -> 0.99 | J48: =I48*H48 -> 0 | K48: =G48*(1-Скидка_RP_ind) -> 103.95 | L48: =H48*K48 -> 0 | M48: *
A49: 0 | B49: 113216 | C49: RoxelPro Зачистной круг ROXPRO PLUS QCD 50мм, керамика, Р80 | D49: кор: 100 шт. | E49: шт. | F49: 0.99 | G49: =ROUND(F49*Курс_EUR,2) -> 103.95 | I49: =F49*(1-Скидка_RP_ind) -> 0.99 | J49: =I49*H49 -> 0 | K49: =G49*(1-Скидка_RP_ind) -> 103.95 | L49: =H49*K49 -> 0 | M49: *
...

Sheet RP IND
B2: Прайс - лист
B3: на материалы для индустрии RoxelPro
B4: Санкт-Петербург, 194362, пос.Парголово, Горское шоссе 6, логопарк "Осиновая Роща" | L4: Скидка: | M4: 0
B5: т./ф. + 7 (812) 640 4240 e-mail: info@lion-group.ru www.lion-group.ru | E5: Содержание | G5: =Курс_EUR -> 105 | J5: Сумма заказа, У.Е.: | K5: =SUM(K9:K546) -> 0 | L5: РУБ: | M5: =SUM(M9:M546) -> 0
A6: Изм. цены % | B6: Продукты | C6: Артикул | D6: Наименование продукта | E6: Упаковка | F6: Ед.изм. | G6: Рекоменд. Цена У.Е. | H6: Рекоменд. Цена РУБ | I6: Заказ | J6: Цена со скидкой | K6: Сумма У.Е. | L6: Цена со скидкой | M6: Сумма РУБ
B7: Абразивные материалы
B8: Отрезные круги
A9: 0 | C9: 115041 | D9: Sunmight Отрезной круг SUNTEK ZIRCONIA 115 х 1,0 х 22мм прямой, тип 41 | E9: 50 / 200 шт. | F9: шт. | G9: 0.2 | H9: =ROUND(G9*Курс_EUR,2) -> 21 | J9: =G9 -> 0.2 | K9: =J9*I9 -> 0 | L9: =H9 -> 21 | M9: =I9*L9 -> 0
A11: 0 | C11: 105144 | D11: RoxelPro Отрезной круг ROXPRO POWER CUT 125 x 1.2 x 22мм, Т41, нерж.сталь, металл | E11: 50 / 500 шт. | F11: шт. | G11: 0.72 | H11: =ROUND(G11*Курс_EUR,2) -> 75.6 | J11: =G11*(1-Скидка_ROXELPRO_Ind) -> 0.72 | K11: =J11*I11 -> 0 | L11: =H11*(1-Скидка_ROXELPRO_Ind) -> 75.6 | M11: =I11*L11 -> 0
A13: 0 | C13: 105243 | D13: RoxelPro Отрезной круг ROXTOP HARD CUT 125 x 1.0 x 22мм, Т41, нерж.сталь, металл | E13: 50 / 500 шт. | F13: шт. | G13: 0.67 | H13: =ROUND(G13*Курс_EUR,2) -> 70.35 | J13: =G13*(1-Скидка_ROXELPRO_Ind) -> 0.67 | K13: =J13*I13 -> 0 | L13: =H13*(1-Скидка_ROXELPRO_Ind) -> 70.35 | M13: =I13*L13 -> 0
A14: 0 | C14: 105245 | D14: RoxelPro Отрезной круг ROXTOP HARD CUT 125 x 1.6 x 22мм, Т41, нерж.сталь, металл | E14: 50 / 500 шт. | F14: шт. | G14: 0.71 | H14: =ROUND(G14*Курс_EUR,2) -> 74.55 | J14: =G14*(1-Скидка_ROXELPRO_Ind) -> 0.71 | K14: =J14*I14 -> 0 | L14: =H14*(1-Скидка_ROXELPRO_Ind) -> 74.55 | M14: =I14*L14 -> 0
A15: 0 | C15: 105247 | D15: RoxelPro Отрезной круг ROXTOP HARD CUT 125 x 2.5 x 22мм, Т41, нерж.сталь, металл | E15: 50 / 500 шт. | F15: шт. | G15: 0.78 | H15: =ROUND(G15*Курс_EUR,2) -> 81.9 | J15: =G15*(1-Скидка_ROXELPRO_Ind) -> 0.78 | K15: =J15*I15 -> 0 | L15: =H15*(1-Скидка_ROXELPRO_Ind) -> 81.9 | M15: =I15*L15 -> 0
A16: 0 | C16: 105248 | D16: RoxelPro Отрезной круг ROXTOP HARD CUT 125 x 3.0 x 22мм, Т41, нерж.сталь, металл | E16: 50 / 500 шт. | F16: шт. | G16: 0.79 | H16: =ROUND(G16*Курс_EUR,2) -> 82.95 | J16: =G16*(1-Скидка_ROXELPRO_Ind) -> 0.79 | K16: =J16*I16 -> 0 | L16: =H16*(1-Скидка_ROXELPRO_Ind) -> 82.95 | M16: =I16*L16 -> 0
A18: 0 | C18: 105323 | D18: RoxelPro Отрезной круг ROXTOP UNI CUT 75 x 1.0 x 9.8мм, Т41, нерж.сталь, металл | E18: 50 / 500 шт. | F18: шт. | G18: 0.56 | H18: =ROUND(G18*Курс_EUR,2) -> 58.8 | J18: =G18*(1-Скидка_ROXELPRO_Ind) -> 0.56 | K18: =J18*I18 -> 0 | L18: =H18*(1-Скидка_ROXELPRO_Ind) -> 58.8 | M18: =I18*L18 -> 0
A19: 0 | C19: 105343 | D19: RoxelPro Отрезной круг ROXTOP UNI CUT 125 x 1.0 x 22мм, Т41, нерж.сталь, металл | E19: 50 / 500 шт. | F19: шт. | G19: 0.67 | H19: =ROUND(G19*Курс_EUR,2) -> 70.35 | J19: =G19*(1-Скидка_ROXELPRO_Ind) -> 0.67 | K19: =J19*I19 -> 0 | L19: =H19*(1-Скидка_ROXELPRO_Ind) -> 70.35 | M19: =I19*L19 -> 0
A20: 0 | C20: 105344 | D20: RoxelPro Отрезной круг ROXTOP UNI CUT 125 x 1.2 x 22мм, Т41, нерж.сталь, металл | E20: 50 / 500 шт. | F20: шт. | G20: 0.7 | H20: =ROUND(G20*Курс_EUR,2) -> 73.5 | J20: =G20*(1-Скидка_ROXELPRO_Ind) -> 0.7 | K20: =J20*I20 -> 0 | L20: =H20*(1-Скидка_ROXELPRO_Ind) -> 73.5 | M20: =I20*L20 -> 0
A21: 0 | C21: 105345 | D21: RoxelPro Отрезной круг ROXTOP UNI CUT 125 x 1.6 x 22мм, Т41, нерж.сталь, металл | E21: 50 / 500 шт. | F21: шт. | G21: 0.71 | H21: =ROUND(G21*Курс_EUR,2) -> 74.55 | J21: =G21*(1-Скидка_ROXELPRO_Ind) -> 0.71 | K21: =J21*I21 -> 0 | L21: =H21*(1-Скидка_ROXELPRO_Ind) -> 74.55 | M21: =I21*L21 -> 0
A22: 0 | C22: 105347 | D22: RoxelPro Отрезной круг ROXTOP UNI CUT 125 x 2.5 x 22мм, Т41, нерж.сталь, металл | E22: 50 / 500 шт. | F22: шт. | G22: 0.74 | H22: =ROUND(G22*Курс_EUR,2) -> 77.7 | J22: =G22*(1-Скидка_ROXELPRO_Ind) -> 0.74 | K22: =J22*I22 -> 0 | L22: =H22*(1-Скидка_ROXELPRO_Ind) -> 77.7 | M22: =I22*L22 -> 0
A23: 0 | C23: 105348 | D23: RoxelPro Отрезной круг ROXTOP UNI CUT 125 x 3.0 x 22мм, Т41, нерж.сталь, металл | E23: 50 / 500 шт. | F23: шт. | G23: 0.79 | H23: =ROUND(G23*Курс_EUR,2) -> 82.95 | J23: =G23*(1-Скидка_ROXELPRO_Ind) -> 0.79 | K23: =J23*I23 -> 0 | L23: =H23*(1-Скидка_ROXELPRO_Ind) -> 82.95 | M23: =I23*L23 -> 0
A24: 0 | C24: 105355 | D24: RoxelPro Отрезной круг ROXTOP UNI CUT 150 x 1.6 x 22мм, Т41, нерж.сталь, металл | E24: 25 / 250 шт. | F24: шт. | G24: 1.07 | H24: =ROUND(G24*Курс_EUR,2) -> 112.35 | J24: =G24*(1-Скидка_ROXELPRO_Ind) -> 1.07 | K24: =J24*I24 -> 0 | L24: =H24*(1-Скидка_ROXELPRO_Ind) -> 112.35 | M24: =I24*L24 -> 0
... A33: 0 | C33: 105610 | D33: RoxelPro Отрезной круг ROXTOP FAST CUT 405 x 4.0 x 32мм, Т41, металл | E33: 20 шт. | F33: шт. | G33: 6.48 | H33: =ROUND(G33*Курс_EUR,2) -> 680.4 | J33: =G33*(1-Скидка_ROXELPRO_Ind) -> 6.48 | K33: =J33*I33 -> 0 | L33: =H33*(1-Скидка_ROXELPRO_Ind) -> 680.4 | M33: =I33*L33 -> 0
B35: Зачистные круги
A36: 0 | C36: 106648 | D36: RoxelPro Гибкий зачистной круг ROXPRO FLEXIBLE 125 х 3.0 х 22мм, Т27, нерж.сталь, металл, керамическое зерно 36+ | E36: 20 / 200 шт. | F36: шт. | G36: 4.25 | H36: =ROUND(G36*Курс_EUR,2) -> 446.25 | J36: =G36*(1-Скидка_ROXELPRO_Ind) -> 4.25 | K36: =J36*I36 -> 0 | L36: =H36*(1-Скидка_ROXELPRO_Ind) -> 446.25 | M36: =I36*L36 -> 0
A37: 0 | C37: 106668 | D37: RoxelPro Гибкий зачистной круг ROXPRO FLEXIBLE 180 х 3.2 х 22мм, Т27, нерж.сталь, металл, керамическое зерно 36+ | E37: 25 / 100 шт. | F37: шт. | G37: 7.06 | H37: =ROUND(G37*Курс_EUR,2) -> 741.3 | J37: =G37*(1-Скидка_ROXELPRO_Ind) -> 7.06 | K37: =J37*I37 -> 0 | L37: =H37*(1-Скидка_ROXELPRO_Ind) -> 741.3 | M37: =I37*L37 -> 0
A39: 0 | C39: 108249 | D39: RoxelPro Зачистной круг ROXTOP HARD CUT 125 x 6.4 x 22мм, Т27, нерж.сталь, металл | E39: 25 / 100 шт. | F39: шт. | G39: 1.14 | H39: =ROUND(G39*Курс_EUR,2) -> 119.7 | J39: =G39*(1-Скидка_ROXELPRO_Ind) -> 1.14 | K39: =J39*I39 -> 0 | L39: =H39*(1-Скидка_ROXELPRO_Ind) -> 119.7 | M39: =I39*L39 -> 0
A41: 0 | C41: 108349 | D41: RoxelPro Зачистной круг ROXTOP UNI CUT 125 x 6.4 x 22мм, Т27, нерж.сталь, металл | E41: 25 / 100 шт. | F41: шт. | G41: 1.14 | H41: =ROUND(G41*Курс_EUR,2) -> 119.7 | J41: =G41*(1-Скидка_ROXELPRO_Ind) -> 1.14 | K41: =J41*I41 -> 0 | L41: =H41*(1-Скидка_ROXELPRO_Ind) -> 119.7 | M41: =I41*L41 -> 0
A42: 0 | C42: 108369 | D42: RoxelPro Зачистной круг ROXTOP UNI CUT 180 x 6.4 x 22мм, Т27, нерж.сталь, металл | E42: 20 / 80 шт. | F42: шт. | G42: 2.06 | H42: =ROUND(G42*Курс_EUR,2) -> 216.3 | J42: =G42*(1-Скидка_ROXELPRO_Ind) -> 2.06 | K42: =J42*I42 -> 0 | L42: =H42*(1-Скидка_ROXELPRO_Ind) -> 216.3 | M42: =I42*L42 -> 0
A43: 0 | C43: 108379 | D43: RoxelPro Зачистной круг ROXTOP UNI CUT 230 x 6.4 x 22мм, Т27, нерж.сталь, металл | E43: 10 / 40 шт. | F43: шт. | G43: 3.68 | H43: =ROUND(G43*Курс_EUR,2) -> 386.4 | J43: =G43*(1-Скидка_ROXELPRO_Ind) -> 3.68 | K43: =J43*I43 -> 0 | L43: =H43*(1-Скидка_ROXELPRO_Ind) -> 386.4 | M43: =I43*L43 -> 0
A45: 0 | C45: 108549 | D45: RoxelPro Зачистной круг ROXTOP FAST CUT 125 x 6.4 x 22мм, Т27, нерж.сталь, металл | E45: 25 / 100 шт. | F45: шт. | G45: 1.11 | H45: =ROUND(G45*Курс_EUR,2) -> 116.55 | J45: =G45*(1-Скидка_ROXELPRO_Ind) -> 1.11 | K45: =J45*I45 -> 0 | L45: =H45*(1-Скидка_ROXELPRO_Ind) -> 116.55 | M45: =I45*L45 -> 0
A47: 0 | C47: 108749 | D47: RoxelPro Зачистной круг ROXTOP SOFT CUT 125 x 6.4 x 22мм, Т27, нерж.сталь, металл | E47: 25 / 100 шт. | F47: шт. | G47: 1.11 | H47: =ROUND(G47*Курс_EUR,2) -> 116.55 | J47: =G47*(1-Скидка_ROXELPRO_Ind) -> 1.11 | K47: =J47*I47 -> 0 | L47: =H47*(1-Скидка_ROXELPRO_Ind) -> 116.55 | M47: =I47*L47 -> 0
A48: 0 | C48: 108750 | D48: RoxelPro Зачистной круг ROXTOP SOFT CUT II 125 x 6.4 x 22мм, Т27, нерж.сталь, металл | E48: 25 / 100 шт. | F48: шт. | G48: 1.11 | H48: =ROUND(G48*Курс_EUR,2) -> 116.55 | J48: =G48*(1-Скидка_ROXELPRO_Ind) -> 1.11 | K48: =J48*I48 -> 0 | L48: =H48*(1-Скидка_ROXELPRO_Ind) -> 116.55 | M48: =I48*L48 -> 0
A49: 0 | C49: 108769 | D49: RoxelPro Зачистной круг ROXTOP SOFT CUT 180 x 6.4 x 22мм, Т27, нерж.сталь, металл | E49: 20 / 80 шт. | F49: шт. | G49: 2.16 | H49: =ROUND(G49*Курс_EUR,2) -> 226.8 | J49: =G49*(1-Скидка_ROXELPRO_Ind) -> 2.16 | K49: =J49*I49 -> 0 | L49: =H49*(1-Скидка_ROXELPRO_Ind) -> 226.8 | M49: =I49*L49 -> 0
A50: 0 | C50: 108770 | D50: RoxelPro Зачистной круг ROXTOP SOFT CUT II 180 x 6.4 x 22мм, Т27, нерж.сталь, металл | E50: 20 / 80 шт. | F50: шт. | G50: 2.16 | H50: =ROUND(G50*Курс_EUR,2) -> 226.8 | J50: =G50*(1-Скидка_ROXELPRO_Ind) -> 2.16 | K50: =J50*I50 -> 0 | L50: =H50*(1-Скидка_ROXELPRO_Ind) -> 226.8 | M50: =I50*L50 -> 0
A51: 0 | C51: 108779 | D51: RoxelPro Зачистной круг ROXTOP SOFT CUT 230 x 6.4 x 22мм, Т27, нерж.сталь, металл | E51: 10 / 40 шт. | F51: шт. | G51: 3.99 | H51: =ROUND(G51*Курс_EUR,2) -> 418.95 | J51: =G51*(1-Скидка_ROXELPRO_Ind) -> 3.99 | K51: =J51*I51 -> 0 | L51: =H51*(1-Скидка_ROXELPRO_Ind) -> 418.95 | M51: =I51*L51 -> 0
B53: Фибровые круги
A54: 0 | C54: 110341 | D54: RoxelPro Фибровый шлифовальный круг ROXPRO 125 х 22мм, керамика, Р24 | E54: 25 / 200 шт. | F54: шт. | G54: 2.48 | H54: =ROUND(G54*Курс_EUR,2) -> 260.4 | J54: =G54*(1-Скидка_ROXELPRO_Ind) -> 2.48 | K54: =J54*I54 -> 0 | L54: =H54*(1-Скидка_ROXELPRO_Ind) -> 260.4 | M54: =I54*L54 -> 0
A55: 0 | C55: 110342 | D55: RoxelPro Фибровый шлифовальный круг ROXPRO 125 х 22мм, керамика, Р36 | E55: 25 / 200 шт. | F55: шт. | G55: 2.34 | H55: =ROUND(G55*Курс_EUR,2) -> 245.7 | J55: =G55*(1-Скидка_ROXELPRO_Ind) -> 2.34 | K55: =J55*I55 -> 0 | L55: =H55*(1-Скидка_ROXELPRO_Ind) -> 245.7 | M55: =I55*L55 -> 0
A56: 0 | C56: 110343 | D56: RoxelPro Фибровый шлифовальный круг ROXPRO 125 х 22мм, керамика, Р40 | E56: 25 / 200 шт. | F56: шт. | G56: 1.92 | H56: =ROUND(G56*Курс_EUR,2) -> 201.6 | J56: =G56*(1-Скидка_ROXELPRO_Ind) -> 1.92 | K56: =J56*I56 -> 0 | L56: =H56*(1-Скидка_ROXELPRO_Ind) -> 201.6 | M56: =I56*L56 -> 0
A57: 0 | C57: 110345 | D57: RoxelPro Фибровый шлифовальный круг ROXPRO 125 х 22мм, керамика, Р60 | E57: 25 / 200 шт. | F57: шт. | G57: 1.51 | H57: =ROUND(G57*Курс_EUR,2) -> 158.55 | J57: =G57*(1-Скидка_ROXELPRO_Ind) -> 1.51 | K57: =J57*I57 -> 0 | L57: =H57*(1-Скидка_ROXELPRO_Ind) -> 158.55 | M57: =I57*L57 -> 0
A58: 0 | C58: 110346 | D58: RoxelPro Фибровый шлифовальный круг ROXPRO 125 х 22мм, керамика, Р80 | E58: 25 / 200 шт. | F58: шт. | G58: 1.42 | H58: =ROUND(G58*Курс_EUR,2) -> 149.1 | J58: =G58*(1-Скидка_ROXELPRO_Ind) -> 1.42 | K58: =J58*I58 -> 0 | L58: =H58*(1-Скидка_ROXELPRO_Ind) -> 149.1 | M58: =I58*L58 -> 0
...

Sheet RP BR
B2: Прайс - лист
B3: на твердосплавные борфрезы по металлу RoxelPro
B4: Санкт-Петербург, 194362, пос.Парголово, Горское шоссе 6, логопарк "Осиновая Роща" | P4: Скидка: | Q4: 0
B5: т./ф. + 7 (812) 640 4240 e-mail: info@lion-group.ru www.lion-group.ru | G5: Содержание | I5: =Курс_EUR -> 105 | N5: Сумма заказа, У.Е.: | O5: =SUM(O7:O118) -> 0 | P5: РУБ: | Q5: =SUM(Q7:Q118) -> 0
A6: Изм. цены % | B6: Артикул | C6: Форма | D6: Диаметр d1 мм | E6: Длина l1 мм | F6: Диаметр d2 мм | G6: Длина l2 мм | H6: Рек. цена Double Cut Cut 6 | I6: Рек. цена Single Cut Cut 2 | J6: Рек. цена Fine Cut Cut 5 | K6: Рек. цена Alu Cut Cut 3 | L6: Рекоменд. Цена РУБ | M6: Заказ | N6: Цена со скидкой | O6: Сумма У.Е. | P6: Цена со скидкой | Q6: Сумма РУБ
B7: RoxelPro Твердосплавная борфреза по металлу цилиндрическая тип A
A8: 0 | B8: TA30313-6 | D8: 3 | E8: 13 | F8: 3 | G8: 38 | H8: 4.5 | L8: =ROUND(H8*Курс_EUR,2) -> 472.5 | N8: =H8*(1-Скидка_ROXELPRO_burrs) -> 4.5 | O8: =N8*M8 -> 0 | P8: =L8*(1-Скидка_ROXELPRO_burrs) -> 472.5 | Q8: =M8*P8 -> 0
A9: 0 | B9: TA30413-6 | D9: 4 | E9: 13 | F9: 3 | G9: 51 | H9: 4.5 | L9: =ROUND(H9*Курс_EUR,2) -> 472.5 | N9: =H9*(1-Скидка_ROXELPRO_burrs) -> 4.5 | O9: =N9*M9 -> 0 | P9: =L9*(1-Скидка_ROXELPRO_burrs) -> 472.5 | Q9: =M9*P9 -> 0
A10: 0 | B10: TA30613-2 | D10: 6 | E10: 13 | F10: 3 | G10: 51 | I10: 4.5 | L10: =ROUND(I10*Курс_EUR,2) -> 472.5 | N10: =I10*(1-Скидка_ROXELPRO_burrs) -> 4.5 | O10: =N10*M10 -> 0 | P10: =L10*(1-Скидка_ROXELPRO_burrs) -> 472.5 | Q10: =M10*P10 -> 0
A11: 0 | B11: TA60413-6 | D11: 4 | E11: 13 | F11: 6 | G11: 50 | H11: 15.71 | L11: =ROUND(H11*Курс_EUR,2) -> 1649.55 | N11: =H11*(1-Скидка_ROXELPRO_burrs) -> 15.71 | O11: =N11*M11 -> 0 | P11: =L11*(1-Скидка_ROXELPRO_burrs) -> 1649.55 | Q11: =M11*P11 -> 0
A12: 0 | B12: TA60820-6 | D12: 8 | E12: 20 | F12: 6 | G12: 65 | H12: 9.77 | L12: =ROUND(H12*Курс_EUR,2) -> 1025.85 | N12: =H12*(1-Скидка_ROXELPRO_burrs) -> 9.77 | O12: =N12*M12 -> 0 | P12: =L12*(1-Скидка_ROXELPRO_burrs) -> 1025.85 | Q12: =M12*P12 -> 0
A13: 0 | B13: TA61020-6 | D13: 10 | E13: 20 | F13: 6 | G13: 65 | H13: 13.19 | L13: =ROUND(H13*Курс_EUR,2) -> 1384.95 | N13: =H13*(1-Скидка_ROXELPRO_burrs) -> 13.19 | O13: =N13*M13 -> 0 | P13: =L13*(1-Скидка_ROXELPRO_burrs) -> 1384.95 | Q13: =M13*P13 -> 0
A14: 0 | B14: TA61625-6 | D14: 16 | E14: 25 | F14: 6 | G14: 70 | H14: 30.2 | L14: =ROUND(H14*Курс_EUR,2) -> 3171 | N14: =H14*(1-Скидка_ROXELPRO_burrs) -> 30.2 | O14: =N14*M14 -> 0 | P14: =L14*(1-Скидка_ROXELPRO_burrs) -> 3171 | Q14: =M14*P14 -> 0
B17: RoxelPro Твердосплавная борфреза по металлу цилиндрическая с торцевой насечкой тип B
A18: 0 | B18: TB30307-2 | D18: 3 | E18: 7 | F18: 3 | G18: 38 | I18: 4.5 | L18: =ROUND(I18*Курс_EUR,2) -> 472.5 | N18: =I18*(1-Скидка_ROXELPRO_burrs) -> 4.5 | O18: =N18*M18 -> 0 | P18: =L18*(1-Скидка_ROXELPRO_burrs) -> 472.5 | Q18: =M18*P18 -> 0
A19: 0 | B19: TB60616-6 | D19: 6 | E19: 16 | F19: 6 | G19: 56 | H19: 15.75 | L19: =ROUND(H19*Курс_EUR,2) -> 1653.75 | N19: =H19*(1-Скидка_ROXELPRO_burrs) -> 15.75 | O19: =N19*M19 -> 0 | P19: =L19*(1-Скидка_ROXELPRO_burrs) -> 1653.75 | Q19: =M19*P19 -> 0
A20: 0 | B20: TB60820-6 | D20: 8 | E20: 20 | F20: 6 | G20: 65 | H20: 9.77 | L20: =ROUND(H20*Курс_EUR,2) -> 1025.85 | N20: =H20*(1-Скидка_ROXELPRO_burrs) -> 9.77 | O20: =N20*M20 -> 0 | P20: =L20*(1-Скидка_ROXELPRO_burrs) -> 1025.85 | Q20: =M20*P20 -> 0
A21: 0 | B21: TB61020-6 | D21: 10 | E21: 20 | F21: 6 | G21: 65 | H21: 13.19 | L21: =ROUND(H21*Курс_EUR,2) -> 1384.95 | N21: =H21*(1-Скидка_ROXELPRO_burrs) -> 13.19 | O21: =N21*M21 -> 0 | P21: =L21*(1-Скидка_ROXELPRO_burrs) -> 1384.95 | Q21: =M21*P21 -> 0
A22: 0 | B22: TB61225-6 | D22: 12 | E22: 25 | F22: 6 | G22: 70 | H22: 19.17 | L22: =ROUND(H22*Курс_EUR,2) -> 2012.85 | N22: =H22*(1-Скидка_ROXELPRO_burrs) -> 19.17 | O22: =N22*M22 -> 0 | P22: =L22*(1-Скидка_ROXELPRO_burrs) -> 2012.85 | Q22: =M22*P22 -> 0
A23: 0 | B23: TB61625-6 | D23: 16 | E23: 25 | F23: 6 | G23: 70 | H23: 30.2 | L23: =ROUND(H23*Курс_EUR,2) -> 3171 | N23: =H23*(1-Скидка_ROXELPRO_burrs) -> 30.2 | O23: =N23*M23 -> 0 | P23: =L23*(1-Скидка_ROXELPRO_burrs) -> 3171 | Q23: =M23*P23 -> 0
B25: RoxelPro Твердосплавная борфреза по металлу сфероцилиндрическая тип C
A26: 0 | B26: TC30210-6 | D26: 2 | E26: 10 | F26: 3 | G26: 38 | H26: 4.5 | L26: =ROUND(H26*Курс_EUR,2) -> 472.5 | N26: =H26*(1-Скидка_ROXELPRO_burrs) -> 4.5 | O26: =N26*M26 -> 0 | P26: =L26*(1-Скидка_ROXELPRO_burrs) -> 472.5 | Q26: =M26*P26 -> 0
A27: 0 | B27: TC30314-6 | D27: 3 | E27: 14 | F27: 3 | G27: 38 | H27: 4.5 | L27: =ROUND(H27*Курс_EUR,2) -> 472.5 | N27: =H27*(1-Скидка_ROXELPRO_burrs) -> 4.5 | O27: =N27*M27 -> 0 | P27: =L27*(1-Скидка_ROXELPRO_burrs) -> 472.5 | Q27: =M27*P27 -> 0
A28: 0 | B28: TC60616-6 | D28: 6 | E28: 16 | F28: 6 | G28: 50 | H28: 15.75 | L28: =ROUND(H28*Курс_EUR,2) -> 1653.75 | N28: =H28*(1-Скидка_ROXELPRO_burrs) -> 15.75 | O28: =N28*M28 -> 0 | P28: =L28*(1-Скидка_ROXELPRO_burrs) -> 1653.75 | Q28: =M28*P28 -> 0
A29: 0 | B29: TC60820-6 | D29: 8 | E29: 20 | F29: 6 | G29: 65 | H29: 9.5 | L29: =ROUND(H29*Курс_EUR,2) -> 997.5 | N29: =H29*(1-Скидка_ROXELPRO_burrs) -> 9.5 | O29: =N29*M29 -> 0 | P29: =L29*(1-Скидка_ROXELPRO_burrs) -> 997.5 | Q29: =M29*P29 -> 0
A30: 0 | B30: TC61020-6 | D30: 10 | E30: 20 | F30: 6 | G30: 65 | H30: 12.74 | L30: =ROUND(H30*Курс_EUR,2) -> 1337.7 | N30: =H30*(1-Скидка_ROXELPRO_burrs) -> 12.74 | O30: =N30*M30 -> 0 | P30: =L30*(1-Скидка_ROXELPRO_burrs) -> 1337.7 | Q30: =M30*P30 -> 0
A31: 0 | B31: TC61225-6 | D31: 12 | E31: 25 | F31: 6 | G31: 70 | H31: 18.45 | L31: =ROUND(H31*Курс_EUR,2) -> 1937.25 | N31: =H31*(1-Скидка_ROXELPRO_burrs) -> 18.45 | O31: =N31*M31 -> 0 | P31: =L31*(1-Скидка_ROXELPRO_burrs) -> 1937.25 | Q31: =M31*P31 -> 0
A32: 0 | B32: TC61325-6 | D32: 12.7 | E32: 25 | F32: 6 | G32: 70 | H32: 20.25 | L32: =ROUND(H32*Курс_EUR,2) -> 2126.25 | N32: =H32*(1-Скидка_ROXELPRO_burrs) -> 20.25 | O32: =N32*M32 -> 0 | P32: =L32*(1-Скидка_ROXELPRO_burrs) -> 2126.25 | Q32: =M32*P32 -> 0
A33: 0 | B33: TC61625-6 | D33: 16 | E33: 25 | F33: 6 | G33: 70 | H33: 28.17 | L33: =ROUND(H33*Курс_EUR,2) -> 2957.85 | N33: =H33*(1-Скидка_ROXELPRO_burrs) -> 28.17 | O33: =N33*M33 -> 0 | P33: =L33*(1-Скидка_ROXELPRO_burrs) -> 2957.85 | Q33: =M33*P33 -> 0
A34: 0 | B34: TC81020-6 | D34: 10 | E34: 20 | F34: 8 | G34: 65 | H34: 12.74 | L34: =ROUND(H34*Курс_EUR,2) -> 1337.7 | N34: =H34*(1-Скидка_ROXELPRO_burrs) -> 12.74 | O34: =N34*M34 -> 0 | P34: =L34*(1-Скидка_ROXELPRO_burrs) -> 1337.7 | Q34: =M34*P34 -> 0
B35: RoxelPro Твердосплавная борфреза по металлу сферическая тип D
A36: 0 | B36: TD30302-6 | D36: 3 | E36: 2 | F36: 3 | G36: 38 | H36: 4.5 | L36: =ROUND(H36*Курс_EUR,2) -> 472.5 | N36: =H36*(1-Скидка_ROXELPRO_burrs) -> 4.5 | O36: =N36*M36 -> 0 | P36: =L36*(1-Скидка_ROXELPRO_burrs) -> 472.5 | Q36: =M36*P36 -> 0
A37: 0 | B37: TD60807-6 | D37: 8 | E37: 7.2 | F37: 6 | G37: 52 | H37: 6.66 | L37: =ROUND(H37*Курс_EUR,2) -> 699.3 | N37: =H37*(1-Скидка_ROXELPRO_burrs) -> 6.66 | O37: =N37*M37 -> 0 | P37: =L37*(1-Скидка_ROXELPRO_burrs) -> 699.3 | Q37: =M37*P37 -> 0
A38: 0 | B38: TD61009-6 | D38: 10 | E38: 9 | F38: 6 | G38: 54 | H38: 8.69 | L38: =ROUND(H38*Курс_EUR,2) -> 912.45 | N38: =H38*(1-Скидка_ROXELPRO_burrs) -> 8.69 | O38: =N38*M38 -> 0 | P38: =L38*(1-Скидка_ROXELPRO_burrs) -> 912.45 | Q38: =M38*P38 -> 0
A39: 0 | B39: TD61210-3 | D39: 12 | E39: 10 | F39: 6 | G39: 55 | K39: 21.65 | L39: =ROUND(K39*Курс_EUR,2) -> 2273.25 | N39: =K39*(1-Скидка_ROXELPRO_burrs) -> 21.65 | O39: =N39*M39 -> 0 | P39: =L39*(1-Скидка_ROXELPRO_burrs) -> 2273.25 | Q39: =M39*P39 -> 0
A40: 0 | B40: TD61210-6 | D40: 12 | E40: 10 | F40: 6 | G40: 55 | H40: 11.12 | L40: =ROUND(H40*Курс_EUR,2) -> 1167.6 | N40: =H40*(1-Скидка_ROXELPRO_burrs) -> 11.12 | O40: =N40*M40 -> 0 | P40: =L40*(1-Скидка_ROXELPRO_burrs) -> 1167.6 | Q40: =M40*P40 -> 0
A41: 0 | B41: TD61311-6 | D41: 12.7 | E41: 11 | F41: 6 | G41: 51 | H41: 12.6 | L41: =ROUND(H41*Курс_EUR,2) -> 1323 | N41: =H41*(1-Скидка_ROXELPRO_burrs) -> 12.6 | O41: =N41*M41 -> 0 | P41: =L41*(1-Скидка_ROXELPRO_burrs) -> 1323 | Q41: =M41*P41 -> 0
A42: 0 | B42: TD61312-6 | D42: 12.7 | E42: 11 | F42: 6 | G42: 55 | H42: 10.67 | L42: =ROUND(H42*Курс_EUR,2) -> 1120.35 | N42: =H42*(1-Скидка_ROXELPRO_burrs) -> 10.67 | O42: =N42*M42 -> 0 | P42: =L42*(1-Скидка_ROXELPRO_burrs) -> 1120.35 | Q42: =M42*P42 -> 0
A43: 0 | B43: TD61614-6 | D43: 16 | E43: 14.4 | F43: 6 | G43: 59 | H43: 18.45 | L43: =ROUND(H43*Курс_EUR,2) -> 1937.25 | N43: =H43*(1-Скидка_ROXELPRO_burrs) -> 18.45 | O43: =N43*M43 -> 0 | P43: =L43*(1-Скидка_ROXELPRO_burrs) -> 1937.25 | Q43: =M43*P43 -> 0
A44: 0 | B44: TD62018-2 | D44: 20 | E44: 18 | F44: 6 | G44: 63 | I44: 29.7 | L44: =ROUND(I44*Курс_EUR,2) -> 3118.5 | N44: =I44*(1-Скидка_ROXELPRO_burrs) -> 29.7 | O44: =N44*M44 -> 0 | P44: =L44*(1-Скидка_ROXELPRO_burrs) -> 3118.5 | Q44: =M44*P44 -> 0
...

Sheet RP CST
B2: Прайс - лист
B3: на материалы для строительного рынка RoxelPro
B4: Санкт-Петербург, 194362, пос.Парголово, Горское шоссе 6, логопарк "Осиновая Роща" | K4: Скидка: | L4: 0
B5: т./ф. + 7 (812) 640 4240 e-mail: info@lion-group.ru www.lion-group.ru | D5: Содержание | F5: =Курс_EUR -> 105 | I5: Сумма заказа, У.Е.: | J5: =SUM(J8:J308) -> 0 | K5: РУБ: | L5: =SUM(L8:L308) -> 0
A6: Изм. цены % | B6: Артикул | C6: Наименование продукта | D6: Упаковка | E6: Ед.изм. | F6: Рекоменд. Цена У.Е. | G6: Рекоменд. Цена РУБ | H6: Заказ | I6: Цена со скидкой | J6: Сумма EUR | K6: Цена со скидкой | L6: Сумма РУБ
B7: Абразивные материалы
B8: Шлифовальная бумага
A9: 0 | B9: 155603 | C9: RoxelPro Шлифовальная бумага SUNROX в рулоне 115мм х 5м, золотистая, Р40 | D9: 1 / 6 шт. | E9: шт. | F9: 5.3 | G9: =ROUND(F9*Курс_EUR,2) -> 556.5 | I9: =F9*(1-Скидка_RP_CST) -> 5.3 | J9: =I9*H9 -> 0 | K9: =G9*(1-Скидка_RP_CST) -> 556.5 | L9: =H9*K9 -> 0
A10: 0 | B10: 155605 | C10: RoxelPro Шлифовальная бумага SUNROX в рулоне 115мм х 5м, золотистая, Р60 | D10: 1 / 6 шт. | E10: шт. | F10: 4.99 | G10: =ROUND(F10*Курс_EUR,2) -> 523.95 | I10: =F10*(1-Скидка_RP_CST) -> 4.99 | J10: =I10*H10 -> 0 | K10: =G10*(1-Скидка_RP_CST) -> 523.95 | L10: =H10*K10 -> 0
A11: 0 | B11: 155606 | C11: RoxelPro Шлифовальная бумага SUNROX в рулоне 115мм х 5м, золотистая, Р80 | D11: 1 / 6 шт. | E11: шт. | F11: 4.69 | G11: =ROUND(F11*Курс_EUR,2) -> 492.45 | I11: =F11*(1-Скидка_RP_CST) -> 4.69 | J11: =I11*H11 -> 0 | K11: =G11*(1-Скидка_RP_CST) -> 492.45 | L11: =H11*K11 -> 0
A12: 0 | B12: 155607 | C12: RoxelPro Шлифовальная бумага SUNROX в рулоне 115мм х 5м, золотистая, Р100 | D12: 1 / 6 шт. | E12: шт. | F12: 4.69 | G12: =ROUND(F12*Курс_EUR,2) -> 492.45 | I12: =F12*(1-Скидка_RP_CST) -> 4.69 | J12: =I12*H12 -> 0 | K12: =G12*(1-Скидка_RP_CST) -> 492.45 | L12: =H12*K12 -> 0
A13: 0 | B13: 155608 | C13: RoxelPro Шлифовальная бумага SUNROX в рулоне 115мм х 5м, золотистая, Р120 | D13: 1 / 6 шт. | E13: шт. | F13: 4.38 | G13: =ROUND(F13*Курс_EUR,2) -> 459.9 | I13: =F13*(1-Скидка_RP_CST) -> 4.38 | J13: =I13*H13 -> 0 | K13: =G13*(1-Скидка_RP_CST) -> 459.9 | L13: =H13*K13 -> 0
A14: 0 | B14: 155609 | C14: RoxelPro Шлифовальная бумага SUNROX в рулоне 115мм х 5м, золотистая, Р150 | D14: 1 / 6 шт. | E14: шт. | F14: 4.38 | G14: =ROUND(F14*Курс_EUR,2) -> 459.9 | I14: =F14*(1-Скидка_RP_CST) -> 4.38 | J14: =I14*H14 -> 0 | K14: =G14*(1-Скидка_RP_CST) -> 459.9 | L14: =H14*K14 -> 0
A15: 0 | B15: 155610 | C15: RoxelPro Шлифовальная бумага SUNROX в рулоне 115мм х 5м, золотистая, Р180 | D15: 1 / 6 шт. | E15: шт. | F15: 4.38 | G15: =ROUND(F15*Курс_EUR,2) -> 459.9 | I15: =F15*(1-Скидка_RP_CST) -> 4.38 | J15: =I15*H15 -> 0 | K15: =G15*(1-Скидка_RP_CST) -> 459.9 | L15: =H15*K15 -> 0
A16: 0 | B16: 155612 | C16: RoxelPro Шлифовальная бумага SUNROX в рулоне 115мм х 5м, золотистая, Р240 | D16: 1 / 6 шт. | E16: шт. | F16: 4.38 | G16: =ROUND(F16*Курс_EUR,2) -> 459.9 | I16: =F16*(1-Скидка_RP_CST) -> 4.38 | J16: =I16*H16 -> 0 | K16: =G16*(1-Скидка_RP_CST) -> 459.9 | L16: =H16*K16 -> 0
A18: 0 | B18: 155803 | C18: RoxelPro Шлифовальная бумага SUNROX в рулоне 115мм х 50м, золотистая, Р40 | D18: 1 / 2 шт. | E18: шт. | F18: 39.61 | G18: =ROUND(F18*Курс_EUR,2) -> 4159.05 | I18: =F18*(1-Скидка_RP_CST) -> 39.61 | J18: =I18*H18 -> 0 | K18: =G18*(1-Скидка_RP_CST) -> 4159.05 | L18: =H18*K18 -> 0
A19: 0 | B19: 155805 | C19: RoxelPro Шлифовальная бумага SUNROX в рулоне 115мм х 50м, золотистая, Р60 | D19: 1 / 2 шт. | E19: шт. | F19: 36.56 | G19: =ROUND(F19*Курс_EUR,2) -> 3838.8 | I19: =F19*(1-Скидка_RP_CST) -> 36.56 | J19: =I19*H19 -> 0 | K19: =G19*(1-Скидка_RP_CST) -> 3838.8 | L19: =H19*K19 -> 0
A20: 0 | B20: 155806 | C20: RoxelPro Шлифовальная бумага SUNROX в рулоне 115мм х 50м, золотистая, Р80 | D20: 1 / 2 шт. | E20: шт. | F20: 33.51 | G20: =ROUND(F20*Курс_EUR,2) -> 3518.55 | I20: =F20*(1-Скидка_RP_CST) -> 33.51 | J20: =I20*H20 -> 0 | K20: =G20*(1-Скидка_RP_CST) -> 3518.55 | L20: =H20*K20 -> 0
A21: 0 | B21: 155807 | C21: RoxelPro Шлифовальная бумага SUNROX в рулоне 115мм х 50м, золотистая, Р100 | D21: 1 / 2 шт. | E21: шт. | F21: 33.51 | G21: =ROUND(F21*Курс_EUR,2) -> 3518.55 | I21: =F21*(1-Скидка_RP_CST) -> 33.51 | J21: =I21*H21 -> 0 | K21: =G21*(1-Скидка_RP_CST) -> 3518.55 | L21: =H21*K21 -> 0
... A25: 0 | B25: 155812 | C25: RoxelPro Шлифовальная бумага SUNROX в рулоне 115мм х 50м, золотистая, Р240 | D25: 1 / 2 шт. | E25: шт. | F25: 30.47 | G25: =ROUND(F25*Курс_EUR,2) -> 3199.35 | I25: =F25*(1-Скидка_RP_CST) -> 30.47 | J25: =I25*H25 -> 0 | K25: =G25*(1-Скидка_RP_CST) -> 3199.35 | L25: =H25*K25 -> 0
B27: Шлифовальное оборудование
B28: Оправки и прокладки для шлифовальных кругов
A29: 0 | B29: 195617 | C29: RoxelPro Оправка для шлифовальных кругов MAMBA 150мм на липучке, 5/16"+М8, 129 отв, средней жёсткости | D29: шт. | E29: шт. | F29: 40.3 | G29: =ROUND(F29*Курс_EUR,2) -> 4231.5 | I29: =F29*(1-Скидка_RP_CST) -> 40.3 | J29: =I29*H29 -> 0 | K29: =G29*(1-Скидка_RP_CST) -> 4231.5 | L29: =H29*K29 -> 0
A30: 0 | B30: 195626 | C30: RoxelPro Оправка для шлифовальных кругов FUSION 150мм на липучке, 5/16"+М8, 97 отв, жёсткая | D30: шт. | E30: шт. | F30: 39.42 | G30: =ROUND(F30*Курс_EUR,2) -> 4139.1 | I30: =F30*(1-Скидка_RP_CST) -> 39.42 | J30: =I30*H30 -> 0 | K30: =G30*(1-Скидка_RP_CST) -> 4139.1 | L30: =H30*K30 -> 0
A31: 0 | B31: 195627 | C31: RoxelPro Оправка для шлифовальных кругов FUSION 150мм на липучке, 5/16"+М8, 97 отв, средней жёсткости | D31: шт. | E31: шт. | F31: 34.28 | G31: =ROUND(F31*Курс_EUR,2) -> 3599.4 | I31: =F31*(1-Скидка_RP_CST) -> 34.28 | J31: =I31*H31 -> 0 | K31: =G31*(1-Скидка_RP_CST) -> 3599.4 | L31: =H31*K31 -> 0
A32: 0 | B32: 195628 | C32: RoxelPro Оправка для шлифовальных кругов FUSION 150мм на липучке, 5/16"+М8, 97 отв, мягкая | D32: шт. | E32: шт. | F32: 39.42 | G32: =ROUND(F32*Курс_EUR,2) -> 4139.1 | I32: =F32*(1-Скидка_RP_CST) -> 39.42 | J32: =I32*H32 -> 0 | K32: =G32*(1-Скидка_RP_CST) -> 4139.1 | L32: =H32*K32 -> 0
A33: 0 | B33: 195636 | C33: RoxelPro Оправка для шлиф. кругов FUSION ELECTRO 150мм на липучке, 5/16"+М8, 97 отв, жёсткая | D33: шт. | E33: шт. | F33: 43.92 | G33: =ROUND(F33*Курс_EUR,2) -> 4611.6 | I33: =F33*(1-Скидка_RP_CST) -> 43.92 | J33: =I33*H33 -> 0 | K33: =G33*(1-Скидка_RP_CST) -> 4611.6 | L33: =H33*K33 -> 0
A34: 0 | B34: 195637 | C34: RoxelPro Оправка для шлиф. кругов FUSION ELECTRO 150мм на липучке, 5/16"+М8, 97 отв, средней жёсткости | D34: шт. | E34: шт. | F34: 36.83 | G34: =ROUND(F34*Курс_EUR,2) -> 3867.15 | I34: =F34*(1-Скидка_RP_CST) -> 36.83 | J34: =I34*H34 -> 0 | K34: =G34*(1-Скидка_RP_CST) -> 3867.15 | L34: =H34*K34 -> 0
A35: 0 | B35: 195643 | C35: RoxelPro Оправка для шлифовальных кругов WINNER 125мм на липучке, 5/16"+М8, 8 отв, жёсткая | D35: шт. | E35: шт. | F35: 23.75 | G35: =ROUND(F35*Курс_EUR,2) -> 2493.75 | I35: =F35*(1-Скидка_RP_CST) -> 23.75 | J35: =I35*H35 -> 0 | K35: =G35*(1-Скидка_RP_CST) -> 2493.75 | L35: =H35*K35 -> 0
A36: 0 | B36: 195644 | C36: RoxelPro Оправка для шлифовальных кругов WINNER 125мм на липучке, 5/16"+М8, 8 отв, средней жёсткости | D36: шт. | E36: шт. | F36: 23.75 | G36: =ROUND(F36*Курс_EUR,2) -> 2493.75 | I36: =F36*(1-Скидка_RP_CST) -> 23.75 | J36: =I36*H36 -> 0 | K36: =G36*(1-Скидка_RP_CST) -> 2493.75 | L36: =H36*K36 -> 0
A37: 0 | B37: 195646 | C37: RoxelPro Оправка для шлифовальных кругов WINNER 150мм на липучке, 5/16"+М8, 15 отв, жёсткая | D37: шт. | E37: шт. | F37: 31.17 | G37: =ROUND(F37*Курс_EUR,2) -> 3272.85 | I37: =F37*(1-Скидка_RP_CST) -> 31.17 | J37: =I37*H37 -> 0 | K37: =G37*(1-Скидка_RP_CST) -> 3272.85 | L37: =H37*K37 -> 0
A38: 0 | B38: 195647 | C38: RoxelPro Оправка для шлифовальных кругов WINNER 150мм на липучке, 5/16"+М8, 15 отв, средней жёсткости | D38: шт. | E38: шт. | F38: 25.97 | G38: =ROUND(F38*Курс_EUR,2) -> 2726.85 | I38: =F38*(1-Скидка_RP_CST) -> 25.97 | J38: =I38*H38 -> 0 | K38: =G38*(1-Скидка_RP_CST) -> 2726.85 | L38: =H38*K38 -> 0
A39: 0 | B39: 195648 | C39: RoxelPro Оправка для шлифовальных кругов WINNER 150мм на липучке, 5/16"+М8, 15 отв, мягкая | D39: шт. | E39: шт. | F39: 31.17 | G39: =ROUND(F39*Курс_EUR,2) -> 3272.85 | I39: =F39*(1-Скидка_RP_CST) -> 31.17 | J39: =I39*H39 -> 0 | K39: =G39*(1-Скидка_RP_CST) -> 3272.85 | L39: =H39*K39 -> 0
A40: 0 | B40: 195656 | C40: RoxelPro Оправка для шлифовальных кругов WINNER FESTO 150мм на липучке, 15 отв, жёсткая (для машинок Festool Rotex) | D40: шт. | E40: шт. | F40: 36.69 | G40: =ROUND(F40*Курс_EUR,2) -> 3852.45 | I40: =F40*(1-Скидка_RP_CST) -> 36.69 | J40: =I40*H40 -> 0 | K40: =G40*(1-Скидка_RP_CST) -> 3852.45 | L40: =H40*K40 -> 0
... A59: 0 | B59: 195799 | C59: RoxelPro Защитная прокладка 225мм 24 отв. | D59: шт. | E59: шт. | F59: 9 | G59: =ROUND(F59*Курс_EUR,2) -> 945 | I59: =F59*(1-Скидка_RP_CST) -> 9 | J59: =I59*H59 -> 0 | K59: =G59*(1-Скидка_RP_CST) -> 945 | L59: =H59*K59 -> 0
B61: Ручной шлифовальный инструмент
A62: 0 | B62: 196612 | C62: RoxelPro Малый шлифок 70 х 125мм на липучке, 13 отв. | D62: шт. | E62: шт. | F62: 33.42 | G62: =ROUND(F62*Курс_EUR,2) -> 3509.1 | I62: =F62*(1-Скидка_RP_CST) -> 33.42 | J62: =I62*H62 -> 0 | K62: =G62*(1-Скидка_RP_CST) -> 3509.1 | L62: =H62*K62 -> 0
A63: 0 | B63: 196622 | C63: RoxelPro Средний шлифок 70 х 198мм на липучке, 22 отв. | D63: шт. | E63: шт. | F63: 33.97 | G63: =ROUND(F63*Курс_EUR,2) -> 3566.85 | I63: =F63*(1-Скидка_RP_CST) -> 33.97 | J63: =I63*H63 -> 0 | K63: =G63*(1-Скидка_RP_CST) -> 3566.85 | L63: =H63*K63 -> 0
A64: 0 | B64: 196628 | C64: RoxelPro Набор для шлифования выпуклых и вогнутых поверхностей: шлифок 70 х 198мм, 4 накладки | D64: шт. | E64: шт. | F64: 62.33 | G64: =ROUND(F64*Курс_EUR,2) -> 6544.65 | I64: =F64*(1-Скидка_RP_CST) -> 62.33 | J64: =I64*H64 -> 0 | K64: =G64*(1-Скидка_RP_CST) -> 6544.65 | L64: =H64*K64 -> 0
A65: 0 | B65: 196661 | C65: RoxelPro Широкий шлифок 115 х 230мм на липучке, 10 отв. | D65: шт. | E65: шт. | F65: 41.21 | G65: =ROUND(F65*Курс_EUR,2) -> 4327.05 | I65: =F65*(1-Скидка_RP_CST) -> 41.21 | J65: =I65*H65 -> 0 | K65: =G65*(1-Скидка_RP_CST) -> 4327.05 | L65: =H65*K65 -> 0
...

Sheet RP СИЗ
B2: Прайс - лист
B3: на средства индивидуальной защиты RoxelPro
B4: Санкт-Петербург, 194362, пос.Парголово, Горское шоссе 6, логопарк "Осиновая Роща" | K4: Скидка: | L4: 0
B5: т./ф. + 7 (812) 640 4240 e-mail: info@lion-group.ru www.lion-group.ru | D5: Содержание | F5: =Курс_EUR -> 105 | I5: Сумма заказа, У.Е.: | J5: =SUM(J9:J123) -> 0 | K5: РУБ: | L5: =SUM(L9:L123) -> 0
